BEGIN:VCALENDAR
VERSION:2.0
PRODID:spatie/icalendar-generator
DESCRIPTION:Events from 103.7 The Connection
X-WR-CALDESC:Events from 103.7 The Connection
REFRESH-INTERVAL;VALUE=DURATION:PT1440M
X-PUBLISHED-TTL:PT1440M
BEGIN:VTIMEZONE
TZID:America/Denver
BEGIN:STANDARD
DTSTART:20251102T020000Z
TZOFFSETFROM:-0600
TZOFFSETTO:-0700
END:STANDARD
BEGIN:DAYLIGHT
DTSTART:20260308T020000Z
TZOFFSETFROM:-0700
TZOFFSETTO:-0600
END:DAYLIGHT
END:VTIMEZONE
BEGIN:VTIMEZONE
TZID:UTC
BEGIN:STANDARD
DTSTART:20250728T141030Z
TZOFFSETFROM:+0000
TZOFFSETTO:+0000
END:STANDARD
END:VTIMEZONE
BEGIN:VEVENT
UID:1331-926
DTSTAMP:20260424T141030Z
SUMMARY:Spring Banquet &amp;amp\; Auction
LOCATION:Hope Christian Academy 2891 5th Ave. W  Dickinson ND 58601
ORGANIZER;CN=admin:MAILTO:admin@1037theconnection.com
DTSTART;TZID=America/Denver:20260424T180000
DTEND;TZID=America/Denver:20260424T190000
X-ALT-DESC;FMTTYPE=TEXT/HTML:Annual fundraising event for HCA. To purchase 
 tickets or more information\, call 701-225-3919. &amp;nbsp\;
CATEGORIES:General
URL;VALUE=URI:https://1037theconnection.com/events/?mc_id=1331&#038;vcal=13
 31
METHOD:PUBLISH
END:VEVENT
END:VCALENDAR