BEGIN:VCALENDAR
VERSION:2.0
PRODID:spatie/icalendar-generator
DESCRIPTION:Events from 103.7 The Connection
X-WR-CALDESC:Events from 103.7 The Connection
REFRESH-INTERVAL;VALUE=DURATION:PT1440M
X-PUBLISHED-TTL:PT1440M
BEGIN:VTIMEZONE
TZID:America/Denver
BEGIN:STANDARD
DTSTART:20251102T020000Z
TZOFFSETFROM:-0600
TZOFFSETTO:-0700
END:STANDARD
BEGIN:DAYLIGHT
DTSTART:20260308T020000Z
TZOFFSETFROM:-0700
TZOFFSETTO:-0600
END:DAYLIGHT
END:VTIMEZONE
BEGIN:VTIMEZONE
TZID:UTC
BEGIN:STANDARD
DTSTART:20250728T140450Z
TZOFFSETFROM:+0000
TZOFFSETTO:+0000
END:STANDARD
END:VTIMEZONE
BEGIN:VEVENT
UID:1301-899
DTSTAMP:20260424T140450Z
SUMMARY:CTRL Play: Grades 9-12
LOCATION:Dickinson State University - Student Center 291 Campus Drive  Dick
 inson ND 58601
ORGANIZER;CN=admin:MAILTO:admin@1037theconnection.com
DTSTART;TZID=America/Denver:20260417T180000
DTEND;TZID=America/Denver:20260417T210000
X-ALT-DESC;FMTTYPE=TEXT/HTML:Ready for an epic night of gaming\, food\, and
  hanging out with your friends? Join us for CTRL Play\, the ultimate event
  at the Dickinson State University Student Center! Whether you’re lookin
 g to level up in your favorite video game on PC\, Switch\, or Xbox this is
  the place to be. There will be plenty&amp;hellip\;
CATEGORIES:General
URL;VALUE=URI:https://1037theconnection.com/events/?mc_id=1301&#038;vcal=13
 01
METHOD:PUBLISH
END:VEVENT
END:VCALENDAR