BEGIN:VCALENDAR
VERSION:2.0
PRODID:spatie/icalendar-generator
DESCRIPTION:Events from 103.7 The Connection
X-WR-CALDESC:Events from 103.7 The Connection
REFRESH-INTERVAL;VALUE=DURATION:PT1440M
X-PUBLISHED-TTL:PT1440M
BEGIN:VTIMEZONE
TZID:America/Denver
BEGIN:STANDARD
DTSTART:20251102T020000Z
TZOFFSETFROM:-0600
TZOFFSETTO:-0700
END:STANDARD
BEGIN:DAYLIGHT
DTSTART:20260308T020000Z
TZOFFSETFROM:-0700
TZOFFSETTO:-0600
END:DAYLIGHT
BEGIN:STANDARD
DTSTART:20261101T020000Z
TZOFFSETFROM:-0600
TZOFFSETTO:-0700
END:STANDARD
END:VTIMEZONE
BEGIN:VTIMEZONE
TZID:UTC
BEGIN:STANDARD
DTSTART:20250728T152257Z
TZOFFSETFROM:+0000
TZOFFSETTO:+0000
END:STANDARD
END:VTIMEZONE
BEGIN:VEVENT
UID:1258-529
DTSTAMP:20260424T152257Z
SUMMARY:Badlands Right to Life Monthly Meeting
LOCATION:St. Wenceslaus Parish Center
ORGANIZER;CN=admin:MAILTO:admin@1037theconnection.com
RRULE:FREQ=MONTHLY;BYDAY=1MO;UNTIL=20271231T000000Z
DTSTART;TZID=America/Denver:20260706T130000
DTEND;TZID=America/Denver:20260706T140000
X-ALT-DESC;FMTTYPE=TEXT/HTML:All are welcome to attend this meeting to disc
 uss various pro-life initiatives in the region.
CATEGORIES:General
URL;VALUE=URI:https://1037theconnection.com/events/?mc_id=1258&#038;vcal=12
 58
METHOD:PUBLISH
END:VEVENT
END:VCALENDAR